BEGIN:VCALENDAR
VERSION:2.0
PRODID:Heritage Auctions - HA.com
BEGIN:VEVENT
SUMMARY:Reminder: 2026 July 1 Urban Art Showcase Auction #16241
DESCRIPTION:This is a reminder that Heritage's 2026 July 1 Urban Art Showca
 se Auction #16241 held in Dallas\, TX\, will be available for bidding on o
 r near June 10\, 2026.\nThe Consignment Deadline for this auction is Wedne
 sday\, May 27\, 2026. Contact us (http://fineart.HA.com/c/acquisitions.zx?
 target=consign&type=addtocalendar022709) if you are interested in informat
 ion.\n\nPlease use the following link if you would like to browse this auc
 tion:\nhttp://fineart.HA.com/c/auction-home.zx?saleNo=16241&type=addtocale
 ndar022709\n\n\nNote: Auction dates are subject to change without notice\,
  so please check back closer to the auction date for confirmation.
UID:b5d4717ab94869943dfdddd0e7916b72@ha.com
DTSTAMP:20260423T052517
DTSTART;VALUE=DATE:20260701
DTEND;VALUE=DATE:20260702
TRANSP:TRANSPARENT
BEGIN:VALARM
TRIGGER:-P2D
DESCRIPTION:Reminder: 2026 July 1 Urban Art Showcase Auction #16241 begins 
 in 2 days
ACTION:DISPLAY
END:VALARM
END:VEVENT
END:VCALENDAR